BEGIN:VCALENDAR
PRODID:-//hacksw/handcal//NONSGML v1.0//EN
VERSION:2.0
METHOD:PUBLISH
BEGIN:VEVENT
DTSTART:20260504T150000Z
DTEND:20260505T000000Z
LOCATION:Caesars Palance Las Vegas 
UID:2911720260504T150000ZNevada Tax and Trust Conference 
DTSTAMP:20260421T135936Z
DESCRIPTION:
SUMMARY:Nevada Tax and Trust Conference  - Estate Planning Council of Northern Nevada 
PRIORITY:3
BEGIN:VALARM
TRIGGER:PT18H
ACTION:DISPLAY
DESCRIPTION:Reminder
END:VALARM
END:VEVENT
END:VCALENDAR