BEGIN:VCALENDAR
PRODID:-//hacksw/handcal//NONSGML v1.0//EN
VERSION:2.0
METHOD:PUBLISH
BEGIN:VEVENT
DTSTART:20260625T233000Z
DTEND:20260626T020000Z
LOCATION:Brasserie Saint James
UID:2925120260625T233000ZLecture on Tap
DTSTAMP:20260422T010553Z
DESCRIPTION:\n\n \nThank you to Whittier Trust for sponsoring this event!\n
SUMMARY:Lecture on Tap - Estate Planning Council of Northern Nevada 
PRIORITY:3
BEGIN:VALARM
TRIGGER:PT18H
ACTION:DISPLAY
DESCRIPTION:Reminder
END:VALARM
END:VEVENT
END:VCALENDAR