BEGIN:VCALENDAR
PRODID:-//hacksw/handcal//NONSGML v1.0//EN
VERSION:2.0
METHOD:PUBLISH
BEGIN:VEVENT
DTSTART:20260521T190000Z
DTEND:20260522T010000Z
LOCATION:Rancharrah
UID:2925520260521T190000ZThe Destination Jurisdiction - EPCNN Annual May Event 
DTSTAMP:20260422T010831Z
DESCRIPTION:\nNevada provides planning solutions unavailable in many jurisdictions. As a result, your clients are coming from all across the country and internationally. Clients arrive carrying the legal baggage of their home jurisdictions, and understanding how those jurisdictions interact with Nevada structures is essential to delivering advice that works, whether it be from a trustee, financial advisor, tax or legal perspective.\n \nThis program will address planning considerations for clients coming from any and every jurisdiction. It will also dive deep into Nevada's largest neighbor, California, including its property tax reassessment rules under Propositions 13 and 19, community property implications, income and wealth tax exposure for current and former residents, and California's well-documented tendency to assert jurisdiction over out-of-state structures.\n \nThe presenters will use realistic hypotheticals and solicit solutions from the audience as they address the technical and practical complications that arise from Nevada jurisdictional selection.\n \n \n \nThank you to our awesome sponsors:  Dickson Realty, Morgan Stanley, Eide Bailly, Dunham Trust, Alliance Trust, Navolio & Tallman LLP, Prunty Law\n \n \n
SUMMARY:The Destination Jurisdiction - EPCNN Annual May Event  - Estate Planning Council of Northern Nevada 
PRIORITY:3
BEGIN:VALARM
TRIGGER:PT18H
ACTION:DISPLAY
DESCRIPTION:Reminder
END:VALARM
END:VEVENT
END:VCALENDAR